BEGIN:VCALENDAR
VERSION:2.0
PRODID:-//Abex Global Healthcare - ECPv6.0.13.1//NONSGML v1.0//EN
CALSCALE:GREGORIAN
METHOD:PUBLISH
X-WR-CALNAME:Abex Global Healthcare
X-ORIGINAL-URL:https://www.abexglobalhc.com
X-WR-CALDESC:Events for Abex Global Healthcare
REFRESH-INTERVAL;VALUE=DURATION:PT1H
X-Robots-Tag:noindex
X-PUBLISHED-TTL:PT1H
BEGIN:VTIMEZONE
TZID:UTC
BEGIN:STANDARD
TZOFFSETFROM:+0000
TZOFFSETTO:+0000
TZNAME:UTC
DTSTART:20210101T000000
END:STANDARD
END:VTIMEZONE
BEGIN:VEVENT
DTSTART;TZID=UTC:20211029T080000
DTEND;TZID=UTC:20211030T170000
DTSTAMP:20260422T222707
CREATED:20230128T155932Z
LAST-MODIFIED:20230128T155932Z
UID:10000025-1635494400-1635613200@www.abexglobalhc.com
SUMMARY:32nd Annual Scientific Congress of Malaysian Oncological Society (32nd ASCOMOS)
DESCRIPTION:Event Name : 32nd Annual Scientific Congress of Malaysian Oncological Society (32nd ASCOMOS)\nOrganiser : Malaysian Oncological Society\nEvent Date : 29 – 30 October 2021\nWebsite: https://ascomos.com/home/ \n32nd ASCOMOS will have not just a broad and comprehensive scientific program on recent advances\, current scientific challenges and the evolving merits of innovators or emerging therapies\, it also aims to bring several new initiatives that will be appealing to the entire spectrum of professional cancer community.
URL:https://www.abexglobalhc.com/event/32nd-annual-scientific-congress-of-malaysian-oncological-society-32nd-ascomos/
LOCATION:Selangor
ATTACH;FMTTYPE=image/jpeg:https://www.abexglobalhc.com/wp-content/uploads/2021/04/ASCOMOS-BANNER.jpg
END:VEVENT
BEGIN:VEVENT
DTSTART;TZID=UTC:20221125T080000
DTEND;TZID=UTC:20221126T170000
DTSTAMP:20260422T222707
CREATED:20230128T160140Z
LAST-MODIFIED:20230128T160140Z
UID:10000026-1669363200-1669482000@www.abexglobalhc.com
SUMMARY:Advancement in Positioning and Immobilization Workshop in Radiotherapy
DESCRIPTION:Event Name : Advancement in Positioning and Immobilization Workshop in Radiotherapy\nOrganiser : Orfit Industries N.V.\, Thomson Hospital Kota Damansara & Abex Medical System\nEvent Date : 25 – 26 November 2022\nLocation : Thomson Hospital Kota Damansara\n1. Conference Hall 2\, Level 11\, Block C\n2. Radiotherapy Department\, LG\, Block C \nTo introduce the new concept of patient immobilization and positioning in radiotherapy setting as this will enhance the knowledge and hands-on skill of the participants. This shall spur the participants to look further into the aspect of patient positioning and immobilization.
URL:https://www.abexglobalhc.com/event/advancement-in-positioning-and-immobilization-workshop-in-radiotherapy/
LOCATION:Thomson Hospital Kota Damansara\, Selangor\, Malaysia
ATTACH;FMTTYPE=image/jpeg:https://www.abexglobalhc.com/wp-content/uploads/2022/11/Orfit-workshop-Banner.jpg
END:VEVENT
END:VCALENDAR